BEGIN:VCALENDAR
VERSION:2.0
PRODID:-//jEvents 2.0 for Joomla//EN
CALSCALE:GREGORIAN
METHOD:PUBLISH
BEGIN:VEVENT
UID:6767bade913158f29bb50ea693f922b9
CATEGORIES:Safety
CREATED:20121002T213616
SUMMARY:AZBAA Aviation Safety Day
LOCATION:Scottsdale Marriott @ McDowell Mountains  16770 N. Perimeter Drive - Scotts
 dale AZ 85260 1-480-502-3836
DESCRIPTION;ENCODING=QUOTED-PRINTABLE:AZBAA proudly invites you to join us for:\nA Day of Safety\n \nNovember 13,
  2012\n \nSee the AZBAA Website for More Info and to Register\n \nLocation:
 \nScottsdale Marriott @ McDowell Mountains 16770 N. Perimeter Drive - Scott
 sdale AZ 85260 1-480-502-3836(Limited hotel rooms are available at the Marr
 iott - mention AZBAA Safety Day for discounted hotel rates) Register before
  October 31st and be entered for chance to win an iPad! (On-line Event Regi
 stration Opens Sept. 5, 2012)\n \nTentative Agenda:07:30-08:30     Registra
 tion with Continental Breakfast08:30-08:35     Welcome: Debbi Laux – Chair,
  AZBAA Safety Day and Director of Trade Relations, MedAire08:35-08:45     I
 ntroductions and Opening Remarks: Ken Casey, President AZBAA and Aircraft S
 ales & Acquisitions,  Pinnacle Aviation, 08:45-09:45     “Business Aviation
  Challenges and Industry Update”: Steve Brown – COO, National Business Avia
 tion Association 09:45-10:30     “Safety Culture in an SMS”: Ray Rohr - Dir
 ector, Regulatory Affairs International Business Aviation Council10:30-11:0
 0       Networking Break 11:00-11:50        “Handling Medical Problems When
  Traveling”: Dr. David Streitwieser, M.D. F.A.C.E.P. – MedLink Medical Dire
 ctor, MedAire12:00-13:45       Lunch - “Zero Failure Philosophy”:  Col. Mar
 k Tillman – Former Commander of Air Force One13:45-14:30      “Responding t
 o the Media”: Cary Pfeffer –Founder and Principal, Clear-comm  14:30-15:30 
       “Operational Risks for Flight Safety”: Greg Feith - Aviation Safety &
  Security Consultant, former Senior Air Safety Investigator National Transp
 ortation Safety Board (NTSB)15:30-15:45        Networking Break 15:45-16:45
         “NTSB’s Most Wanted – Improving Runway Safety”: Steve Gomez, Techni
 cal Sales Manager for Safety, Honeywell16:45 -17:00      Closing Remarks 17
 :00 -19:00      Networking Cocktail Reception AZBAA Members $50, Non-AZBAA 
 Members $75Students Complimentary with ID\n \nSPONSORSHIP OPPORTUNITIES:\nP
 latinum Sponsor........................................$5,000\nGold Sponsor
 ...............................................$4,000\nSilver Sponsor......
 .......................................$3,000\nBronze Sponsor..............
 .............................$2,000\nCopper Sponsor........................
 ..................$1,000\nTurquoise Sponsor................................
 ......$500\nDisplay Table Sponsor (limited)...................$200\nWe are 
 still seeking sponsors for this event.  Please contact Ken Casey for more i
 nformation on what sponsorship opportunities are available and pricing at (
 480) 695-4660 or email This email address is being protected from spambots.
  You need JavaScript enabled to view it.
				document.getElementById('cloak
 efc8d0575caf8bfb76278d97301d697f').innerHTML = '';
				var prefix = '&#109;
 a' + 'i&#108;' + '&#116;o';
				var path = 'hr' + 'ef' + '=';
				var addye
 fc8d0575caf8bfb76278d97301d697f = 'kc' + '&#64;';
				addyefc8d0575caf8bfb7
 6278d97301d697f = addyefc8d0575caf8bfb76278d97301d697f + 'p&#105;nn&#97;cl&
 #101;&#97;v&#105;&#97;t&#105;&#111;n' + '&#46;' + 'c&#111;m';
				var addy_
 textefc8d0575caf8bfb76278d97301d697f = 'kc' + '&#64;' + 'p&#105;nn&#97;cl&#
 101;&#97;v&#105;&#97;t&#105;&#111;n' + '&#46;' + 'c&#111;m';document.getEle
 mentById('cloakefc8d0575caf8bfb76278d97301d697f').innerHTML += ''+addy_text
 efc8d0575caf8bfb76278d97301d697f+'';
		.\n \nFor registration information p
 lease contact Debbi Laux at (480) 333-3725 or email at This email address i
 s being protected from spambots. You need JavaScript enabled to view it.
		
 		document.getElementById('cloak9c6f26e3bd50cc93c76f8b4173d10a47').innerHTM
 L = '';
				var prefix = '&#109;a' + 'i&#108;' + '&#116;o';
				var path = 
 'hr' + 'ef' + '=';
				var addy9c6f26e3bd50cc93c76f8b4173d10a47 = 'd&#101;b
 b&#105;.l&#97;&#117;x' + '&#64;';
				addy9c6f26e3bd50cc93c76f8b4173d10a47 
 = addy9c6f26e3bd50cc93c76f8b4173d10a47 + 'm&#101;d&#97;&#105;r&#101;' + '&#
 46;' + 'c&#111;m';
				var addy_text9c6f26e3bd50cc93c76f8b4173d10a47 = 'd&#
 101;bb&#105;.l&#97;&#117;x' + '&#64;' + 'm&#101;d&#97;&#105;r&#101;' + '&#4
 6;' + 'c&#111;m';document.getElementById('cloak9c6f26e3bd50cc93c76f8b4173d1
 0a47').innerHTML += ''+addy_text9c6f26e3bd50cc93c76f8b4173d10a47+'';
		.\n 
 \n
CONTACT:Debbi Laux at (480) 333-3725 or email at This email address is being protected from spambots. You need JavaScript enabled to view it.
				document.getElementById('cloakec003cfd925ffabeae8f950ce53f9a62').innerHTML = '';
				var prefix = '&#109;a' + 'i&#108;' + '&#116;o';
				var path = 'hr' + 'ef' + '=';
				var addyec003cfd925ffabeae8f950ce53f9a62 = 'd&#101;bb&#105;.l&#97;&#117;x' + '&#64;';
				addyec003cfd925ffabeae8f950ce53f9a62 = addyec003cfd925ffabeae8f950ce53f9a62 + 'm&#101;d&#97;&#105;r&#101;' + '&#46;' + 'c&#111;m';
				var addy_textec003cfd925ffabeae8f950ce53f9a62 = 'd&#101;bb&#105;.l&#97;&#117;x' + '&#64;' + 'm&#101;d&#97;&#105;r&#101;' + '&#46;' + 'c&#111;m';document.getElementById('cloakec003cfd925ffabeae8f950ce53f9a62').innerHTML += ''+addy_textec003cfd925ffabeae8f950ce53f9a62+'';
		
DTSTAMP:20260420T163723Z
DTSTART;TZID=America/Phoenix;VALUE=DATE:20121113
DTEND;TZID=America/Phoenix;VALUE=DATE:20121114
SEQUENCE:0
TRANSP:OPAQUE
END:VEVENT
END:VCALENDAR