BEGIN:VCALENDAR
VERSION:2.0
PRODID:-//jEvents 2.0 for Joomla//EN
CALSCALE:GREGORIAN
METHOD:PUBLISH
BEGIN:VEVENT
UID:f0947229429fff326cc6a9f42996559a
CATEGORIES:Safety
CREATED:20120924T213425
SUMMARY:40th Annual Aviation Safety Awards' & Banquet / Safety Seminar
LOCATION:DoubleTree Guest Suites 320 North 44th Street  Phoenix, AZ 85008
DESCRIPTION;ENCODING=QUOTED-PRINTABLE:The Arizona Pilots Association only has a few tickets left available \nat t
 he discounted price of $32.50 (7% Off!)\nPlease contact Jim Timm ASAP if yo
 u would like to reserve \na ticket or two: This email address is being prot
 ected from spambots. You need JavaScript enabled to view it.
				document.g
 etElementById('cloakb9441e57506602ce2d4aa62bcd34a4fe').innerHTML = '';
				
 var prefix = '&#109;a' + 'i&#108;' + '&#116;o';
				var path = 'hr' + 'ef' 
 + '=';
				var addyb9441e57506602ce2d4aa62bcd34a4fe = 'jt&#105;mm' + '&#64;
 ';
				addyb9441e57506602ce2d4aa62bcd34a4fe = addyb9441e57506602ce2d4aa62bc
 d34a4fe + '&#97;zp&#105;l&#111;ts' + '&#46;' + '&#111;rg';
				var addy_tex
 tb9441e57506602ce2d4aa62bcd34a4fe = 'jt&#105;mm' + '&#64;' + '&#97;zp&#105;
 l&#111;ts' + '&#46;' + '&#111;rg';document.getElementById('cloakb9441e57506
 602ce2d4aa62bcd34a4fe').innerHTML += ''+addy_textb9441e57506602ce2d4aa62bcd
 34a4fe+'';
		 602-616-9291 or \nStefanie at This email address is being pro
 tected from spambots. You need JavaScript enabled to view it.
				document.
 getElementById('cloak995f5424edcc8dc5fe55ed130d57e706').innerHTML = '';
			
 	var prefix = '&#109;a' + 'i&#108;' + '&#116;o';
				var path = 'hr' + 'ef'
  + '=';
				var addy995f5424edcc8dc5fe55ed130d57e706 = 'st&#101;f' + '&#64;
 ';
				addy995f5424edcc8dc5fe55ed130d57e706 = addy995f5424edcc8dc5fe55ed130
 d57e706 + '&#97;zp&#105;l&#111;ts' + '&#46;' + '&#111;rg';
				var addy_tex
 t995f5424edcc8dc5fe55ed130d57e706 = 'st&#101;f' + '&#64;' + '&#97;zp&#105;l
 &#111;ts' + '&#46;' + '&#111;rg';document.getElementById('cloak995f5424edcc
 8dc5fe55ed130d57e706').innerHTML += ''+addy_text995f5424edcc8dc5fe55ed130d5
 7e706+'';
		 520-826-2105. \n\n\n\n\n\nSee more details at the FAA Website\
 n\n\n \n\n\nSpeakers: \n\n\nLt. Col. Robert Ashby, ASAG, FAASTeam Reps, & F
 PM's\n\n\nLocation of Seminar: \n\nDoubleTree Guest Suites\n320 North 44th 
 Street\nPhoenix, AZ 85008\n 
CONTACT:James Anderson Phone: (623) 694-7742 This email address is being protected from spambots. You need JavaScript enabled to view it.
				document.getElementById('cloak2634da8d6cc44038851b12677ba9b309').innerHTML = '';
				var prefix = '&#109;a' + 'i&#108;' + '&#116;o';
				var path = 'hr' + 'ef' + '=';
				var addy2634da8d6cc44038851b12677ba9b309 = 'j&#105;m.&#97;nd&#101;rs&#111;n' + '&#64;';
				addy2634da8d6cc44038851b12677ba9b309 = addy2634da8d6cc44038851b12677ba9b309 + 'cvst&#97;rrc&#111;' + '&#46;' + 'c&#111;m';
				var addy_text2634da8d6cc44038851b12677ba9b309 = 'j&#105;m.&#97;nd&#101;rs&#111;n' + '&#64;' + 'cvst&#97;rrc&#111;' + '&#46;' + 'c&#111;m';document.getElementById('cloak2634da8d6cc44038851b12677ba9b309').innerHTML += ''+addy_text2634da8d6cc44038851b12677ba9b309+'';
		 
DTSTAMP:20260421T002933Z
DTSTART;TZID=America/Phoenix:20121103T173000
SEQUENCE:0
TRANSP:OPAQUE
END:VEVENT
END:VCALENDAR