BEGIN:VCALENDAR
VERSION:2.0
PRODID:-//jEvents 2.0 for Joomla//EN
CALSCALE:GREGORIAN
METHOD:PUBLISH
BEGIN:VEVENT
UID:4b849d655424087c786d04a8fbf1c789
CATEGORIES:Safety
CREATED:20120924T213032
SUMMARY:Tucson International Airport Q&A Safety Seminar & Tower Tour
LOCATION:KTUS Executive Terminal - Tortuga Meeting Room
DESCRIPTION;ENCODING=QUOTED-PRINTABLE:\n\n \n\n\nNOTE: Seminar is currently filled. No additional online registra
 tions are accepted.\n\n\nFor details see http://www.faasafety.gov/SPANS/eve
 nt_details.aspx?eid=46533&caller=/SPANS/events/EventList.aspx\n\n\nTo tour 
 the Tower, you must be a U.S. Citizen and provide a valid government photo 
 ID.\n\n\nOnly 20 seats available!\n
CONTACT:DAVID LANFOR Phone: (520) 261-1621 This email address is being protected from spambots. You need JavaScript enabled to view it.
				document.getElementById('cloak250389a476d2bd7e20704d3c07ab529f').innerHTML = '';
				var prefix = '&#109;a' + 'i&#108;' + '&#116;o';
				var path = 'hr' + 'ef' + '=';
				var addy250389a476d2bd7e20704d3c07ab529f = 'DL&#97;nf&#111;r.FAAST&#101;&#97;m' + '&#64;';
				addy250389a476d2bd7e20704d3c07ab529f = addy250389a476d2bd7e20704d3c07ab529f + 'gm&#97;&#105;l' + '&#46;' + 'c&#111;m';
				var addy_text250389a476d2bd7e20704d3c07ab529f = 'DL&#97;nf&#111;r.FAAST&#101;&#97;m' + '&#64;' + 'gm&#97;&#105;l' + '&#46;' + 'c&#111;m';document.getElementById('cloak250389a476d2bd7e20704d3c07ab529f').innerHTML += ''+addy_text250389a476d2bd7e20704d3c07ab529f+'';
		 
DTSTAMP:20260420T203821Z
DTSTART;TZID=America/Phoenix:20121030T130000
SEQUENCE:0
TRANSP:OPAQUE
END:VEVENT
END:VCALENDAR