BEGIN:VCALENDAR
VERSION:2.0
PRODID:-//jEvents 2.0 for Joomla//EN
CALSCALE:GREGORIAN
METHOD:PUBLISH
BEGIN:VEVENT
UID:4c5b089e8ea2785fa65eab5f985d1b17
CATEGORIES:Safety
CREATED:20120924T212619
SUMMARY:Safety Seminar on Weather at DVT
LOCATION:TransPac Flight Academy - Deer Valley Airport
DESCRIPTION;ENCODING=QUOTED-PRINTABLE:\n\n \n\n\nSee details at http://www.faasafety.gov/SPANS/event_details.aspx
 ?eid=46474&caller=/SPANS/events/EventList.aspx\n\n\n \n
CONTACT:EDWARD SAMUEL DAROR Phone: (623) 869-6728 This email address is being protected from spambots. You need JavaScript enabled to view it.
				document.getElementById('cloakb802daa8d6797eb0fd69b17f7660ccb6').innerHTML = '';
				var prefix = '&#109;a' + 'i&#108;' + '&#116;o';
				var path = 'hr' + 'ef' + '=';
				var addyb802daa8d6797eb0fd69b17f7660ccb6 = '72&#97;&#101;' + '&#64;';
				addyb802daa8d6797eb0fd69b17f7660ccb6 = addyb802daa8d6797eb0fd69b17f7660ccb6 + 'c&#111;x' + '&#46;' + 'n&#101;t';
				var addy_textb802daa8d6797eb0fd69b17f7660ccb6 = '72&#97;&#101;' + '&#64;' + 'c&#111;x' + '&#46;' + 'n&#101;t';document.getElementById('cloakb802daa8d6797eb0fd69b17f7660ccb6').innerHTML += ''+addy_textb802daa8d6797eb0fd69b17f7660ccb6+'';
		 
DTSTAMP:20260420T203821Z
DTSTART;TZID=America/Phoenix:20121011T190000
SEQUENCE:0
TRANSP:OPAQUE
END:VEVENT
END:VCALENDAR