BEGIN:VCALENDAR
VERSION:2.0
PRODID:-//jEvents 2.0 for Joomla//EN
CALSCALE:GREGORIAN
METHOD:PUBLISH
BEGIN:VEVENT
UID:jr883mr9cfqvs6tgm94srt1alo@google.com
CATEGORIES:Backcountry
CREATED:20120521T160912
SUMMARY:Superior (E81) Backcountry Fly-In 
LOCATION:Superior, AZ (E81) 
DESCRIPTION;ENCODING=QUOTED-PRINTABLE:\n\nDrop in to Superior on this Saturday morning for a cup of coffee and a 
 doughnut and then take a hike into the historic old mining town where a cou
 ple of movies have actually been filmed. You may also want to hike down to 
 the stream and relax for awhile. While walking around the airstrip, watch t
 he ground closely and you may find an Apache tear or two.\n\nLevel 1 – non 
 paved, occasionally maintained, 50+ feet wide, more than 3000 feet long, fi
 rm surface, may have high density altitude. \n\nContact Tommy Thomason teth
 omason (at) cox.net or Mark Spencer mspencer (at) theraf.org.\n
DTSTAMP:20260420T143358Z
DTSTART;TZID=America/Phoenix;VALUE=DATE:20120414
DTEND;TZID=America/Phoenix;VALUE=DATE:20120415
SEQUENCE:0
TRANSP:OPAQUE
END:VEVENT
END:VCALENDAR