BEGIN:VCALENDAR
VERSION:2.0
PRODID:-//jEvents 2.0 for Joomla//EN
CALSCALE:GREGORIAN
METHOD:PUBLISH
BEGIN:VEVENT
UID:39vqkq91hap0u9ogvkcis24je4@google.com
CATEGORIES:Other Fly-In
CREATED:20120521T160912
SUMMARY:Arizona Aircraft Expo - Tucson
LOCATION:Million Air  (KTUS) 
DESCRIPTION;ENCODING=QUOTED-PRINTABLE:\n\nFeaturing Today’s Most Advanced Aircraft at One Location\n\n\n\n \nAriz
 ona’s leading aircraft dealers are working together to create the 4th Annua
 l Arizona Aircraft Expo where the latest models of general aviation aircraf
 t will be on display at one venue. Three separate events are scheduled to t
 ake place over the remainder of the year where the general public and prosp
 ective buyers can see the newest technologically advanced aircraft from Ces
 sna, Cirrus, Beechcraft, Piper, Lancair, Quest, CubCrafters, and more. Thes
 e free events also incorporate the ownership services you may need in acqui
 ring your aircraft with representatives from Aviation Tax Consultants, AirF
 leet Capital, Pinnacle Aviation Insurance and Airport Property Specialists.
 \n \nEach venue will also have an ownership seminar that will be held on th
 e Friday of the event at 11:00 am. This seminar will focus on the many ques
 tions that arise during the acquisition and ownership of an aircraft, as re
 lated to insurance, financing, and tax implications for ownership. \n\nAtte
 ndees can pre-register at www.azaircraftexpo.com\n\nFor further information
 , contact: \nBrian Mackin\n\n480-363-0058\nThis email address is being prot
 ected from spambots. You need JavaScript enabled to view it.
				document.g
 etElementById('cloak915eda3d081272e0eef09d5931417489').innerHTML = '';
				
 var prefix = 'ma' + 'il' + 'to';
				var path = 'hr' + 'ef' + '=';
				var 
 addy915eda3d081272e0eef09d5931417489 = 'brian' + '@';
				addy915eda3d08127
 2e0eef09d5931417489 = addy915eda3d081272e0eef09d5931417489 + 'pacificaircen
 ter' + '.' + 'com';
				var addy_text915eda3d081272e0eef09d5931417489 = 'br
 ian' + '@' + 'pacificaircenter' + '.' + 'com';document.getElementById('cloa
 k915eda3d081272e0eef09d5931417489').innerHTML += ''+addy_text915eda3d081272
 e0eef09d5931417489+'';
		\n
CONTACT:Brian Mackin This email address is being protected from spambots. You need JavaScript enabled to view it.
				document.getElementById('cloak36293872ab65bce54df049070b0e549a').innerHTML = '';
				var prefix = '&#109;a' + 'i&#108;' + '&#116;o';
				var path = 'hr' + 'ef' + '=';
				var addy36293872ab65bce54df049070b0e549a = 'br&#105;&#97;n' + '&#64;';
				addy36293872ab65bce54df049070b0e549a = addy36293872ab65bce54df049070b0e549a + 'p&#97;c&#105;f&#105;c&#97;&#105;rc&#101;nt&#101;r' + '&#46;' + 'c&#111;m';
				var addy_text36293872ab65bce54df049070b0e549a = 'br&#105;&#97;n' + '&#64;' + 'p&#97;c&#105;f&#105;c&#97;&#105;rc&#101;nt&#101;r' + '&#46;' + 'c&#111;m';document.getElementById('cloak36293872ab65bce54df049070b0e549a').innerHTML += ''+addy_text36293872ab65bce54df049070b0e549a+'';
		 480-363-0058
DTSTAMP:20260420T144445Z
DTSTART;TZID=America/Phoenix;VALUE=DATE:20120907
DTEND;TZID=America/Phoenix;VALUE=DATE:20120909
SEQUENCE:0
TRANSP:OPAQUE
END:VEVENT
END:VCALENDAR