BEGIN:VCALENDAR
VERSION:2.0
PRODID:-//jEvents 2.0 for Joomla//EN
CALSCALE:GREGORIAN
METHOD:PUBLISH
BEGIN:VEVENT
UID:7efede8bbf7de8e8fbcc602bac332b75
CATEGORIES:Safety
CREATED:20120905T124923
SUMMARY:Safety Seminar at FLG - FAA MedExpress & LUKE AFB Operations
LOCATION:KFLG Wiseman Aviation Hangar
DESCRIPTION;ENCODING=QUOTED-PRINTABLE:\n\nTitle: WINGS Safety Program- FAA MedExpress online medical application 
 procedures & LUKE AFB operations.\n\n\nTopic: The new on-line FAA MedExpres
 s medical application procedures and LUKE AFB operations.\n\n\nDate and Tim
 e: Saturday, September 22, 2012 , starting at 10:00 am Download Calendar Fi
 le\n\n\nSpeaker(s): Fred Gibbs, APA & Lead FAASTeam Rep, Barney Helmick, FL
 G ARPT MGR and Bill Gillies, LUKE AFB Safety Office\n\n\nBrief Description:
  Learn how to use the FAA's new on-line medical application procedures, plu
 s hear Bill Gillies, the Luke AFB Safety Office Mgr discuss Luke operations
 , the airspace issues and the soon-to-be arrivals of the F-35 at Luke, and 
 the impact of all that.\n\n\nSelect Number: WP0745867\n\n\nLocation of Semi
 nar:\nWiseman Aviation Hangar\n2650 W. Shamrell Blvd\nFlagstaff, AZ 86001\n
 \n\nDirections to Venue: Wiseman Aviation Hangar - The only FBO on the airp
 ort. \n\n\nFly-in Seminar?: Yes FLG\n\n\nSeating: 60 seats at the facility,
  see website registration for available seats...\n\n\nRegistration Informat
 ion: Click here to register online now!\n\n\nSponsoring Division: AWP-204 A
 Z FAASTeam\n\n\nContact Information:\nFRED L. GIBBS\nPhone: (928) 266-0112\
 nThis email address is being protected from spambots. You need JavaScript e
 nabled to view it.
				document.getElementById('cloak07420bbc8a67a7a56bcc95
 a2b1f770bc').innerHTML = '';
				var prefix = '&#109;a' + 'i&#108;' + '&#11
 6;o';
				var path = 'hr' + 'ef' + '=';
				var addy07420bbc8a67a7a56bcc95a
 2b1f770bc = 'fr&#101;dg&#105;bbs' + '&#64;';
				addy07420bbc8a67a7a56bcc95
 a2b1f770bc = addy07420bbc8a67a7a56bcc95a2b1f770bc + 'npgc&#97;bl&#101;' + '
 &#46;' + 'c&#111;m';
				var addy_text07420bbc8a67a7a56bcc95a2b1f770bc = 'f
 r&#101;dg&#105;bbs' + '&#64;' + 'npgc&#97;bl&#101;' + '&#46;' + 'c&#111;m';
 document.getElementById('cloak07420bbc8a67a7a56bcc95a2b1f770bc').innerHTML 
 += ''+addy_text07420bbc8a67a7a56bcc95a2b1f770bc+'';
		\n\n\nAdditional Semi
 nar Information & Acknowledgement of Industry Sponsor(s):\n\n\nPresented by
  the Arizona Pilots Association Safety Program, in coordination with the AZ
  FAAST Team, Dominick Gallo, Jr. Mgr, and hosted by Wiseman Aviation, Orvil
 le Wiseman, Mgr, and supported by the local EAA chapter 864, Dave Sanders, 
 President.\n\n\nPilot airspace deviations continue to be a major risk in th
 e national airspace system. To reduce the chance that you might be involved
  in an airspace deviation incident, you are highly encouraged to take an on
 -line learning center course on www.faasafety.gov. Or search the learning l
 ibrary for associated guidance on airspace incursions. Remember, safe and p
 rudent airmen have superior situational awareness and have a plan to keep i
 t that way.\n\n\nThanks! A message from your local FAASTeam.\n\n\nCredit Ap
 plicability:\n\n\nBasic WINGS\n\n\n1 Credit for Basic Knowledge Topic 3\n\n
 \nAdvanced WINGS\n\n\n1 Credit for Advanced Knowledge Topic 2\n\n\nAMT\n\n\
 n1 Credit Total for AMT\n\n\nFAASTeam Project Information:\n\n\nIS-M-DAG-4.
 2\n\n\nNational Project:\n\n\nPilot Deviations - Airspace\n
CONTACT:Fred Gibbs, APA & Lead FAASTeam Rep, Barney Helmick, FLG ARPT MGR and Bill Gillies, LUKE AFB Safety Office
DTSTAMP:20260420T123103Z
DTSTART;TZID=America/Phoenix:20120922T100000
SEQUENCE:0
TRANSP:OPAQUE
END:VEVENT
END:VCALENDAR