BEGIN:VCALENDAR
VERSION:2.0
PRODID:-//jEvents 2.0 for Joomla//EN
CALSCALE:GREGORIAN
METHOD:PUBLISH
BEGIN:VEVENT
UID:08a161c77dc0677e2b2c790f9dbf2d74
CATEGORIES:Other Fly-In
CREATED:20120822T220949
SUMMARY:Thunderbird 150 Air Race - Wickenburg (E25)
LOCATION:Wickenburg (E25)
DESCRIPTION;ENCODING=QUOTED-PRINTABLE:\n\n \n\n\n \n\n\n \n\n\n \nSport Air Racing League!\n\nThunderbird 150 Wic
 kenburg, Arizona\n\n\n \n\n\n\nPilot and Aircraft Requirements\nAnyone with
  a valid pilot’s license and airworthy aircraft is welcome to participate\n
 All race pilots must attend the pre-race briefing\nAircraft must be airwort
 hy with evidence of current annual inspection\nHave a fuel range to fly rac
 e route with reserve at full power\nAircraft should be fueled and ready to 
 race prior to pre-race briefing\nTwo-way radio equipped\n\n\n \n\n\nRegiste
 r to Participate\nGo to www.sportairrace.org and click on Calendar of Event
 s and then Thunderbird 150 Air Race. You need to become a\nmember of the Sp
 ort Air Race League to earn points. You do not need to be a League member t
 o participate. Entries will be\naccepted up until the start of the pre-race
  briefing.\n\n\n\n \n\n\nAircraft should have a Race Number prominently dis
 played on either side of the fuselage and/or on the underside of the wing.P
 rovisional entrants can use a portion of their N number for identification.
 \n\n\n \n\n\nRace fee (pay cash or check on race day)\n$30 for SARL Season 
 Members\n$40 for Non-SARL Members ($10 for one race provisional membership)
 \n\n\n\n \n\n\nPlease sign up on the SARL website or contact:\n\n\n\n \n\n\
 nJason Rovey\nRace Host\nThis email address is being protected from spambot
 s. You need JavaScript enabled to view it.
				document.getElementById('clo
 ak068195725d5651b8a56181061b3d028f').innerHTML = '';
				var prefix = '&#10
 9;a' + 'i&#108;' + '&#116;o';
				var path = 'hr' + 'ef' + '=';
				var add
 y068195725d5651b8a56181061b3d028f = 'r&#111;v&#101;yj&#97;s&#111;n' + '&#64
 ;';
				addy068195725d5651b8a56181061b3d028f = addy068195725d5651b8a5618106
 1b3d028f + 'gm&#97;&#105;l' + '&#46;' + 'c&#111;m';
				var addy_text068195
 725d5651b8a56181061b3d028f = 'r&#111;v&#101;yj&#97;s&#111;n' + '&#64;' + 'g
 m&#97;&#105;l' + '&#46;' + 'c&#111;m';document.getElementById('cloak0681957
 25d5651b8a56181061b3d028f').innerHTML += ''+addy_text068195725d5651b8a56181
 061b3d028f+'';
		\n(602) 619-1686\n\n\n\n \n\n\nSchedule\n\n\n\nFriday Octo
 ber 12th\n\n - Arrivals all day. Early Race registration in the afternoon.\
 n - Dinner at the airport free to all race participants\n\nSaturday October
  13th\n\n - Wickenburg Fly-In and Classic Car Show\n - EAA pancake breakfas
 t\n - Lions club lunch\n - Race registration open at 0730\n - Mandatory pre
 -race briefing 1000\n - Race start 1100\n\nSunday October 14th\n\n - If wea
 ther prohibits racing on Saturday we will try again Sunday morning.\n\n \n\
 n\n \n
CONTACT:Jason Rovey This email address is being protected from spambots. You need JavaScript enabled to view it.
				document.getElementById('cloak6744089ecabf55195d06245b420dd116').innerHTML = '';
				var prefix = '&#109;a' + 'i&#108;' + '&#116;o';
				var path = 'hr' + 'ef' + '=';
				var addy6744089ecabf55195d06245b420dd116 = 'r&#111;v&#101;yj&#97;s&#111;n' + '&#64;';
				addy6744089ecabf55195d06245b420dd116 = addy6744089ecabf55195d06245b420dd116 + 'gm&#97;&#105;l' + '&#46;' + 'c&#111;m';
				var addy_text6744089ecabf55195d06245b420dd116 = 'r&#111;v&#101;yj&#97;s&#111;n' + '&#64;' + 'gm&#97;&#105;l' + '&#46;' + 'c&#111;m';document.getElementById('cloak6744089ecabf55195d06245b420dd116').innerHTML += ''+addy_text6744089ecabf55195d06245b420dd116+'';
		 (602) 619-1686
DTSTAMP:20260420T144622Z
DTSTART;TZID=America/Phoenix;VALUE=DATE:20121012
DTEND;TZID=America/Phoenix;VALUE=DATE:20121015
SEQUENCE:0
TRANSP:OPAQUE
END:VEVENT
END:VCALENDAR