BEGIN:VCALENDAR
VERSION:2.0
PRODID:-//jEvents 2.0 for Joomla//EN
CALSCALE:GREGORIAN
METHOD:PUBLISH
BEGIN:VEVENT
UID:ff9dfde96e98e39af534f1caf345c961
CATEGORIES:Other Fly-In
CREATED:20120819T172811
SUMMARY:Taylor Municipal Fly-In Breakfast and Sweet Corn Festival
LOCATION:Taylor Municipal Airport (TYL)  
DESCRIPTION;ENCODING=QUOTED-PRINTABLE:\n\n \n\n\n\n\n\n \n\n\n\n\n\n \n\n\n \nExperimental Aircraft Association\n
 EAA Show Low Chapter 586\n\nTOWN OF TAYLOR ANNUAL \nSweet Corn Festival \nW
 elcomes You To The \nTaylor Municipal Airport (TYL) \nFLY-IN Pancake Breakf
 ast \nSaturday, September 1st, 2012 \nFree Admission – Open to the Public\n
 \n\nFree “Young Eagle Flights” \nIntroductory Airplane Rides for Ages 8 – 1
 7 \n7:00 AM – 10 AM \nMust bring parent or guardian.\n \nElevation 5,820 fe
 et\nRunways: 3/21 – 7,200 ft X 75 ft -Asphalt \nUnicom: 122.7 \nAWOS:119.07
 5 or 928-536-2609 \nHours of operation: 8 am –5 pm \nFuel: 100 LL AVGAS \nD
 iscount of .20/gallon for pilots who fly in and \nbuy breakfast.\n\n\n\nBre
 akfast\n$6.00 Adult \n$4.00 Children \n (12 and Under)\nFree to Men & Women
  in Military Uniform. \nProceeds go to promote General Aviation.\n\n\nFor a
 dditional information\ncall 480-220-7843, 928-537-7751 \nor 928-536-4811\n
CONTACT:call 480-220-7843, 928-537-7751, 928-536-4811
DTSTAMP:20260420T212912Z
DTSTART;TZID=America/Phoenix;VALUE=DATE:20120901
DTEND;TZID=America/Phoenix;VALUE=DATE:20120902
SEQUENCE:0
TRANSP:OPAQUE
END:VEVENT
END:VCALENDAR