BEGIN:VCALENDAR
VERSION:2.0
PRODID:-//jEvents 2.0 for Joomla//EN
CALSCALE:GREGORIAN
METHOD:PUBLISH
BEGIN:VEVENT
UID:8da367089f5a03ad434b8f46242b9c95
CATEGORIES:Other Fly-In
CREATED:20120818T153817
SUMMARY:6th Annual Page, AZ CT & LSA Fly-In
LOCATION:Page, AZ (KPGA)
DESCRIPTION;ENCODING=QUOTED-PRINTABLE:\n\n  \n6th Annual 2012 Page, AZ. Fly-In \n\nUpdate on 8/18/12:\n\n\nWe'll 
 be having our 6th annual CT Fly-in, Page AZ, the weekend of Oct 18-21, .  A
 Z Pilots are welcome!  The Fly-in is mostly for CTs and LSAs, but we welcom
 e any aircraft.  We stay in Page, Best Western $49/nite, but break into sma
 ller groups (4-6) and fly out each morning to Bullfrog, Monument Valley, Br
 yce, Marble Canyon, Grand Canyon, the Lake, etc.  Group dinner each night b
 ack at the Ranch House.  Antelope and Dam tours, plus this year, we're doin
 g the River Float trip (some on Wednesday, but it can be done any day (4-ho
 urs).  We had 36 aircraft last year... LSAs, 172s, Tail draggers, RV, to tu
 rbo 182. More info:  http://ctflier.com/index.php?/topic/1128-6th-annual-20
 12-page-az-fly-in/  Pics of 2010https://plus.google.com/photos/117646865609
 703200861/albums/5529857248557121809?banner=pwa Videos from 2011http://www.
 youtube.com/watch?v=UMCldJKj7Nchttp://www.youtube.com/watch?v=FUukEXaORyY \
 n\nThis is like a big fun family reunion and not just a Fly-In that's why a
 ll the wives come. \nIncluding Lake Powell, Monument Valley, Bryce Canyon, 
 Zion, Grand Canyon, Bullfrog Marina Resort... \nMake those reservations now
 .. More people, more planes, different flight venue. We will fly all our ro
 utes in reverse this year to offer a big change in scenery. \n\n\n \nThe Pa
 ge, AZ. Fly-In date is October 18-21, 2012 \n\n \n\n\nWe will fly the Grand
  Canyon, Lake Powell, Monument Valley, Zion Canyon and breakfast at Bryce C
 anyon, Monument Valley, Bullfrog Marina and resort. \n\n\n \n\n\nI am going
  to change up all the routes this year to make a scenery change from the pa
 st 5 years. \n\n\n \n\n\nI have blocked off 40 rooms. We got a great rate o
 f $49 same as last year. I hope to have a record number of CT's and LSA air
 craft for our Page Fly-In. Just like last year make the reservations early 
 so you don't miss out and the hotel won't hold all 40 rooms forever. \n\n\n
  \n\n\nDo not wait this year. Book it now and you can cancel up to 24 hours
  before Oct. 18th. Get it booked and reserved, then if you have to cancel y
 ou can, but if you wait again then you may not be staying with the rest of 
 us and at your own peril for rates and possibly a different hotel. They boo
 k darn near the whole town in October. \n\n\nWe have a special rate at the 
 same place we stayed last year. \n\n\n\nTell them you are with the "CT Grou
 p" or Roger Lee to cross reference and the rate is $49 a night. We will arr
 ive Thursday morning, Oct. 18th. and head home Oct. 21th. Sunday or Monday 
 morning. Breakfast is free in the mornings. \n\n\n\nI talked to the people 
 at the Ranch House Grill and they will cater our evening meals again. We wi
 ll have evening meals together Thursday, Friday and Saturday. \n\n\n \n\n\n
 Rose is our contact person. \nBest Western View of Lake Powell \n716 Rim Vi
 ew Dr. \nPage, Az. \n928-645-8868 \nThe AZ. Inn has gone completely non-smo
 king! \n\n\n \n\n\n\nWe will fly into the Page airport - KPGA. \n\n\n\nWe a
 re staying with Classic FBO and with our group we should get a 30 cent disc
 ount on fuel. \nClassic is not the first FBO next to the runway, but the se
 cond one behind them. \n\n\n \n\n\nThe Antelope Canyon tour and the Dam tou
 r is open if anyone wants. These are land tours. \nYou guys are welcome to 
 invite other planes that are not CT's and everyone is welcome. Find some mo
 re LSA's. \n\n\n \n\n\nI will develop GPS coordinates for all our routes an
 d post them so you can enter them in your own GPS. I have a plan to better 
 deal with all our planes for our flights so they are not crowded in the mor
 nings or evenings.\n\n\n \n\n\n\nDon't miss this, we always have fun. \n\n\
 n \n\n\np.s. \nI would like everyone coming to shoot me an email so I can p
 ut together a roster, make name tags and set up call signs like we did last
  year. If you attended last year and we had your personal info then just sa
 y you are coming. If you did not come last year then I would like the email
  to include: N#, Names of you and co-pilot, cell phone number, city, state.
  \n\n\n\nThis is a big help for me to last year to organize our fly outs si
 nce we have so many planes and gives old friends and new friends a way to c
 ontact each other if need be. \n\n\n\nHere is a list that I will keep updat
 ed as people sign up for Page, AZ Fly-In. If you know anyone that wants to 
 join us let them know and then me. I have 45 rooms reserved. I will call th
 e hotel late Aug. as there are always a few reserved I don't hear about. \n
 \n\n \n\n\nYou must tell them you are with the CT Group. \n\n\n \n\n\nThank
 s, \nRoger Lee \nThis email address is being protected from spambots. You n
 eed JavaScript enabled to view it.
				document.getElementById('cloak1d9cce
 321a67e98e46c7000fb40660cc').innerHTML = '';
				var prefix = '&#109;a' + '
 i&#108;' + '&#116;o';
				var path = 'hr' + 'ef' + '=';
				var addy1d9cce3
 21a67e98e46c7000fb40660cc = 'ss&#97;d&#105;v&#101;r1' + '&#64;';
				addy1d
 9cce321a67e98e46c7000fb40660cc = addy1d9cce321a67e98e46c7000fb40660cc + 'y&
 #97;h&#111;&#111;' + '&#46;' + 'c&#111;m';
				var addy_text1d9cce321a67e98
 e46c7000fb40660cc = 'ss&#97;d&#105;v&#101;r1' + '&#64;' + 'y&#97;h&#111;&#1
 11;' + '&#46;' + 'c&#111;m';document.getElementById('cloak1d9cce321a67e98e4
 6c7000fb40660cc').innerHTML += ''+addy_text1d9cce321a67e98e46c7000fb40660cc
 +'';
		 \n\n\n\nSomething new has been added. \n\n\n\nA 1/2 day raft trip o
 n Wed. Oct. 17th from Glen Canyon Dam down to Lee's Ferry. \nThe trip start
 s in Page (at 1100 hrs) where we will take a shuttle bus down below the dam
 . We will board a 20-22 person raft and travel down river for about 1.5 hrs
 . and get out for drinks and photos. Then back in and on down to Lee's Ferr
 y. We board a bus that takes us back to Page and arrive around 1600-1630 hr
 s. There is no white water just a nice trip down through the canyons. The c
 ost for all of this is $87 a person. The phone number for the reservations 
 is 928-645-9175. \n\n\n\nDon't be left out, I know of at least 6 people tha
 t have already signed up so don't be late to make the boat, sign up now. Th
 ey have a 48 hr. cancellation policy and you get it all back except a $7 ch
 arge. This means you will have to arrive in Page Oct. 16th. \n\n\n\nBRING Y
 OUR HAT, SUNGLASSES AND SUNSCREEN. \n\n\n\nHere is the link: http://raftthe
 canyon.com/raft-the-river/half-day-raft-trips/ \n\n\n \n\n\nWhat else is ne
 w? \n\n\n\nWe will fly all our routes in reverse this year to offer a big c
 hange in scenery. \n\n\n\nWe are going to do the Grand Canyon flight in rev
 erse. We will enter the flight corridor on the west end and come back to th
 e east. As we come out of the North east corridor we will land at Marble Ca
 nyon strip where we will have breakfast at their restaurant.\n\n\n\n_______
 __________\nRoger Lee \nTucson, Az. \nLight Sport Repairman - Maint. Rated 
 \nRotax Repair Center - Heavy Maint Rated \n(520) 574-1080 (Home) Try Home 
 First. \n(520) 349-7056 (Cell)\n\n\n \n\n\nCTFlier.com Info... http://ctfli
 er.com/index.php?/topic/1128-6th-annual-2012-page-az-fly-in/\n\n\n \n\n\nMo
 re Info... http://www.sportpilottalk.com/viewtopic.php?t=2532\n\n\n \n\n\n 
 \n\n\n \n\n\n \n
CONTACT:Roger Lee This email address is being protected from spambots. You need JavaScript enabled to view it.
				document.getElementById('cloak1a744ba8a6a840d845fc801aa7de3974').innerHTML = '';
				var prefix = '&#109;a' + 'i&#108;' + '&#116;o';
				var path = 'hr' + 'ef' + '=';
				var addy1a744ba8a6a840d845fc801aa7de3974 = 'ss&#97;d&#105;v&#101;r1' + '&#64;';
				addy1a744ba8a6a840d845fc801aa7de3974 = addy1a744ba8a6a840d845fc801aa7de3974 + 'y&#97;h&#111;&#111;' + '&#46;' + 'c&#111;m';
				var addy_text1a744ba8a6a840d845fc801aa7de3974 = 'ss&#97;d&#105;v&#101;r1' + '&#64;' + 'y&#97;h&#111;&#111;' + '&#46;' + 'c&#111;m';document.getElementById('cloak1a744ba8a6a840d845fc801aa7de3974').innerHTML += ''+addy_text1a744ba8a6a840d845fc801aa7de3974+'';
		 (520) 574-1080
DTSTAMP:20260420T144631Z
DTSTART;TZID=America/Phoenix;VALUE=DATE:20121018
DTEND;TZID=America/Phoenix;VALUE=DATE:20121022
SEQUENCE:0
TRANSP:OPAQUE
END:VEVENT
END:VCALENDAR