BEGIN:VCALENDAR
VERSION:2.0
PRODID:-//jEvents 2.0 for Joomla//EN
CALSCALE:GREGORIAN
METHOD:PUBLISH
BEGIN:VEVENT
UID:ce457011611c5a8ac9b3d5fe1c88c3b5
CATEGORIES:Other Fly-In
CREATED:20120815T150110
SUMMARY:Grand Canyon Valle - Thunder Over the Coconino Fly-In
LOCATION:Grand Canyon Valle Airport (40G )
DESCRIPTION;ENCODING=QUOTED-PRINTABLE:\n\n \n\n\n \nThunder Over the Coconino \n\nFly-In & Car Show\n\nAugust 25,
  2012\n\nBenefiting EAA Chapter #856\n\n\n \n\n\n\n\n\n \n\n\nFor More Info
  go to http://www.valleairport.com/Fly-In.html \n\n
DTSTAMP:20260420T144630Z
DTSTART;TZID=America/Phoenix;VALUE=DATE:20120825
DTEND;TZID=America/Phoenix;VALUE=DATE:20120826
SEQUENCE:0
TRANSP:OPAQUE
END:VEVENT
END:VCALENDAR