BEGIN:VCALENDAR
VERSION:2.0
PRODID:-//jEvents 2.0 for Joomla//EN
CALSCALE:GREGORIAN
METHOD:PUBLISH
BEGIN:VEVENT
UID:ef27e7945b9ce92be3b79c6062a807d3
CATEGORIES:Other Fly-In
CREATED:20120813T140019
SUMMARY:Mojave Air and Space Port Fly-In
LOCATION:Mojave Airport, California (KMHV)
DESCRIPTION;ENCODING=QUOTED-PRINTABLE:\n\n\n\n\n \n\n\nMeet Us in Mojave!  CalPilots' 2012 Annual Meeting happens
  October 19-21 at world-famous Mojave Air and Space Port...and it's an even
 t you do not want to miss.  If you're a pilot or aviation-enthusiast, you'r
 e invited!  Whether you are a CalPilots member or not, our Mojave meeting w
 ill be a unique and memorable experience - a truly enjoyable weekend for al
 l California pilots.\n\n - Meet with the "Next Generation" of true space pi
 oneers from such cutting-edge ventures as:\n - XCor Aerospace and the Lynx 
 spacecraft\n - Orbital Sciences L1011 Orbital Launch Systems tour\n - Fires
 tarz: builders of maneuvering rockets\n - Take sailplane rides in high-perf
 ormance gliders from Southern California Soaring Academy\n - Hear about Gen
 eral Atomics Unmanned Aerospace Systems\n - Learn about the bold Perlan nea
 r-space 90,000 foot MSL glider flight\n - Share dinner and a fascinating ev
 ening discussion with aviation great Dick Rutan\n - Plane Crazy Fly-in and 
 static displays\n - And much more...\n\nYou and your guests are invited to 
 join us and your fellow California aviators for an exciting weekend full of
  camaraderie, exclusive tours, exciting demonstrations and riveting speaker
 s. \n\n\nLodging. Mention "CalPilots" for a special event rate at the Maria
 h Country Inn and Suites (map link).  You can contact the Mariah Inn throug
 h their website, by phone at 1-866-MARIAH1, or by email to Manager Kathy Be
 nson at This email address is being protected from spambots. You need JavaS
 cript enabled to view it.
				document.getElementById('cloakad2e77f4efd1a47
 799e8e8c919e7fd7c').innerHTML = '';
				var prefix = '&#109;a' + 'i&#108;' 
 + '&#116;o';
				var path = 'hr' + 'ef' + '=';
				var addyad2e77f4efd1a477
 99e8e8c919e7fd7c = 'k&#97;th&#101;r&#105;n&#101;.b&#101;ns&#111;n' + '&#64;
 ';
				addyad2e77f4efd1a47799e8e8c919e7fd7c = addyad2e77f4efd1a47799e8e8c91
 9e7fd7c + 'ym&#97;&#105;l' + '&#46;' + 'c&#111;m';
				var addy_textad2e77f
 4efd1a47799e8e8c919e7fd7c = 'k&#97;th&#101;r&#105;n&#101;.b&#101;ns&#111;n'
  + '&#64;' + 'ym&#97;&#105;l' + '&#46;' + 'c&#111;m';document.getElementByI
 d('cloakad2e77f4efd1a47799e8e8c919e7fd7c').innerHTML += ''+addy_textad2e77f
 4efd1a47799e8e8c919e7fd7c+'';
		.\n\n\nRegistration. Cost for the entire ev
 ent is just $35 per person and includes Saturday lunch and dinner. Space is
  limited, so be sure to indicate your interest in attending by completing t
 he form below. We will keep you updated by email with the schedule of event
 s and other important information.  If you have any questions, please conta
 ct us at This email address is being protected from spambots. You need Java
 Script enabled to view it.
				document.getElementById('cloak2bf38cd73846ba
 c4963cda3a2510d130').innerHTML = '';
				var prefix = '&#109;a' + 'i&#108;'
  + '&#116;o';
				var path = 'hr' + 'ef' + '=';
				var addy2bf38cd73846bac
 4963cda3a2510d130 = 'm&#101;&#101;t-&#117;s' + '&#64;';
				addy2bf38cd7384
 6bac4963cda3a2510d130 = addy2bf38cd73846bac4963cda3a2510d130 + 'c&#97;lp&#1
 05;l&#111;ts' + '&#46;' + '&#111;rg';
				var addy_text2bf38cd73846bac4963c
 da3a2510d130 = 'm&#101;&#101;t-&#117;s' + '&#64;' + 'c&#97;lp&#105;l&#111;t
 s' + '&#46;' + '&#111;rg';document.getElementById('cloak2bf38cd73846bac4963
 cda3a2510d130').innerHTML += ''+addy_text2bf38cd73846bac4963cda3a2510d130+'
 ';
		.\n\n\nWe look forward to meeting you in Mojave on October 19, 20 and 
 21!\n\n\nRegistration and Contact Information Below: \n\n\nhttp://calpilots
 .org/index.php?option=com_fabrik&view=form&fabrik=3&random=0&Itemid=141\n
CONTACT:California Pilots Association
DTSTAMP:20260420T144622Z
DTSTART;TZID=America/Phoenix:20121019T080000
DTEND;TZID=America/Phoenix:20121021T170000
SEQUENCE:0
TRANSP:OPAQUE
END:VEVENT
END:VCALENDAR